BEGIN:VCALENDAR
X-LOTUS-CHARSET:UTF-8
VERSION:2.0
PRODID:4WsNetdesignCalendar-ursulinen-gymnasium.de
METHOD:PUBLISH
CALSCALE:GREGORIAN
X-WR-TIMEZONE:Europe/Berlin
BEGIN:VTIMEZONE
TZID:Europe/Berlin
X-LIC-LOCATION:Europe/Berlin
BEGIN:DAYLIGHT
TZOFFSETFROM:+0100
TZOFFSETTO:+0200
TZNAME:CEST
DTSTART:19700329T020000
RRULE:FREQ=YEARLY;INTERVAL=1;BYDAY=-1SU;BYMONTH=3
END:DAYLIGHT
BEGIN:STANDARD
TZOFFSETFROM:+0200
TZOFFSETTO:+0100
TZNAME:CET
DTSTART:19701025T030000
RRULE:FREQ=YEARLY;INTERVAL=1;BYDAY=-1SU;BYMONTH=10
END:STANDARD
END:VTIMEZONE
BEGIN:VEVENT
UID:0797748001776943734@ursulinen-gymnasium.de3633599847
CLASS:PUBLIC
DTSTAMP:20260423T112854Z
DTSTART:20260708T170000Z
DTEND:20260708T183000Z
SUMMARY:Alumni-Chor
DESCRIPTION:HAUPTPROBE für das Sommerkonzert in der Kapelle
END:VEVENT
END:VCALENDAR
