BEGIN:VCALENDAR
X-LOTUS-CHARSET:UTF-8
VERSION:2.0
PRODID:4WsNetdesignCalendar-ursulinen-gymnasium.de
METHOD:PUBLISH
CALSCALE:GREGORIAN
X-WR-TIMEZONE:Europe/Berlin
BEGIN:VTIMEZONE
TZID:Europe/Berlin
X-LIC-LOCATION:Europe/Berlin
BEGIN:DAYLIGHT
TZOFFSETFROM:+0100
TZOFFSETTO:+0200
TZNAME:CEST
DTSTART:19700329T020000
RRULE:FREQ=YEARLY;INTERVAL=1;BYDAY=-1SU;BYMONTH=3
END:DAYLIGHT
BEGIN:STANDARD
TZOFFSETFROM:+0200
TZOFFSETTO:+0100
TZNAME:CET
DTSTART:19701025T030000
RRULE:FREQ=YEARLY;INTERVAL=1;BYDAY=-1SU;BYMONTH=10
END:STANDARD
END:VTIMEZONE
BEGIN:VEVENT
UID:0775975001776943330@ursulinen-gymnasium.de3813981368
CLASS:PUBLIC
DTSTAMP:20260423T112210Z
DTSTART;VALUE=DATE:20260516
DTEND;VALUE=DATE:20260517
SUMMARY:Kulturausflug des Fördervereins
DESCRIPTION:Dieses Jahr lädt der Förderverein ins
  Mannheimer Marchivum ein. Im Anschluss daran ist ab 13:00
  Uhr das Bürgerhaus Neckarstadt-West zum gemütlichen
  Zusammensitzen bei Getränken und Snacks reserviert. 
  \nAusführliches Programm / Anmeldeformalitäten:
END:VEVENT
END:VCALENDAR
